BEGIN:VCALENDAR
VERSION:2.0
PRODID:-//Espace Ludiko - ECPv6.15.13//NONSGML v1.0//EN
CALSCALE:GREGORIAN
METHOD:PUBLISH
X-WR-CALNAME:Espace Ludiko
X-ORIGINAL-URL:https://espaceludiko.com
X-WR-CALDESC:Évènements pour Espace Ludiko
REFRESH-INTERVAL;VALUE=DURATION:PT1H
X-Robots-Tag:noindex
X-PUBLISHED-TTL:PT1H
BEGIN:VTIMEZONE
TZID:America/Toronto
BEGIN:DAYLIGHT
TZOFFSETFROM:-0500
TZOFFSETTO:-0400
TZNAME:EDT
DTSTART:20240310T070000
END:DAYLIGHT
BEGIN:STANDARD
TZOFFSETFROM:-0400
TZOFFSETTO:-0500
TZNAME:EST
DTSTART:20241103T060000
END:STANDARD
BEGIN:DAYLIGHT
TZOFFSETFROM:-0500
TZOFFSETTO:-0400
TZNAME:EDT
DTSTART:20250309T070000
END:DAYLIGHT
BEGIN:STANDARD
TZOFFSETFROM:-0400
TZOFFSETTO:-0500
TZNAME:EST
DTSTART:20251102T060000
END:STANDARD
BEGIN:DAYLIGHT
TZOFFSETFROM:-0500
TZOFFSETTO:-0400
TZNAME:EDT
DTSTART:20260308T070000
END:DAYLIGHT
BEGIN:STANDARD
TZOFFSETFROM:-0400
TZOFFSETTO:-0500
TZNAME:EST
DTSTART:20261101T060000
END:STANDARD
END:VTIMEZONE
BEGIN:VEVENT
DTSTART;TZID=America/Toronto:20251022T153000
DTEND;TZID=America/Toronto:20251022T183000
DTSTAMP:20260423T073025
CREATED:20250911T210515Z
LAST-MODIFIED:20250917T120551Z
UID:790-1761147000-1761157800@espaceludiko.com
SUMMARY:Ouverture de la ludothèque
DESCRIPTION:Pour jouer à la maison avec votre famille et vos amis ou encore pour les activités de votre organisme\, abonnez-vous dès maintenant pour emprunter tous nos jeux et jouets.
URL:https://espaceludiko.com/animation/ouverture-de-la-ludotheque-21/
LOCATION:Chalet Dion\, 1280\, rue Dion\, Val-David\, Québec\, J0T2N0\, Canada
CATEGORIES:0-5 ans,6 ans +,9 ans +,Abonnement annuel,Enfant seulement,Parent-enfant
ATTACH;FMTTYPE=image/png:https://espaceludiko.com/wp-content/uploads/2025/09/LUDOTHEQUE-AUT-251.png
ORGANIZER;CN="Espace Ludiko":MAILTO:info@espaceludiko.com
END:VEVENT
BEGIN:VEVENT
DTSTART;TZID=America/Toronto:20251021T130000
DTEND;TZID=America/Toronto:20251021T150000
DTSTAMP:20260423T073025
CREATED:20250911T182029Z
LAST-MODIFIED:20250914T154825Z
UID:625-1761051600-1761058800@espaceludiko.com
SUMMARY:Ateliers thématiques PM
DESCRIPTION:Conçus pour soutenir les parents éducateurs\, ces ateliers s’appuient sur les compétences du Programme de formation de l’école québécoise. À travers des activités ludiques et stimulantes\, les enfants exploreront en groupe une thématique tout en développant leurs savoirs\, leur curiosité et leur plaisir d’apprendre ! \nS’inscrire aux ateliers thématiques
URL:https://espaceludiko.com/animation/ateliers-thematiques-pm-2/
LOCATION:Chalet Dion\, 1280\, rue Dion\, Val-David\, Québec\, J0T2N0\, Canada
CATEGORIES:6 ans +,9 ans +,Parent-enfant,Payant,Sur inscription
ATTACH;FMTTYPE=image/png:https://espaceludiko.com/wp-content/uploads/2025/07/ATELIER-THEMATIQUE-AUT-25.png
ORGANIZER;CN="Espace Ludiko":MAILTO:info@espaceludiko.com
END:VEVENT
BEGIN:VEVENT
DTSTART;TZID=America/Toronto:20251021T100000
DTEND;TZID=America/Toronto:20251021T120000
DTSTAMP:20260423T073025
CREATED:20250911T181941Z
LAST-MODIFIED:20250914T154831Z
UID:623-1761040800-1761048000@espaceludiko.com
SUMMARY:Ateliers thématiques AM
DESCRIPTION:Conçus pour soutenir les parents éducateurs\, ces ateliers s’appuient sur les compétences du Programme de formation de l’école québécoise. À travers des activités ludiques et stimulantes\, les enfants exploreront en groupe une thématique tout en développant leurs savoirs\, leur curiosité et leur plaisir d’apprendre ! \nS’inscrire aux ateliers thématiques
URL:https://espaceludiko.com/animation/ateliers-thematiques-am/
LOCATION:Chalet Dion\, 1280\, rue Dion\, Val-David\, Québec\, J0T2N0\, Canada
CATEGORIES:6 ans +,9 ans +,Parent-enfant,Payant,Sur inscription
ATTACH;FMTTYPE=image/png:https://espaceludiko.com/wp-content/uploads/2025/07/ATELIER-THEMATIQUE-AUT-25.png
ORGANIZER;CN="Espace Ludiko":MAILTO:info@espaceludiko.com
END:VEVENT
BEGIN:VEVENT
DTSTART;TZID=America/Toronto:20251019T093000
DTEND;TZID=America/Toronto:20251019T123000
DTSTAMP:20260423T073025
CREATED:20250911T210431Z
LAST-MODIFIED:20250917T120559Z
UID:791-1760866200-1760877000@espaceludiko.com
SUMMARY:Ouverture de la ludothèque
DESCRIPTION:Pour jouer à la maison avec votre famille et vos amis ou encore pour les activités de votre organisme\, abonnez-vous dès maintenant pour emprunter tous nos jeux et jouets.
URL:https://espaceludiko.com/animation/ouverture-de-la-ludotheque-20/
LOCATION:Chalet Dion\, 1280\, rue Dion\, Val-David\, Québec\, J0T2N0\, Canada
CATEGORIES:0-5 ans,6 ans +,9 ans +,Abonnement annuel,Enfant seulement,Parent-enfant
ATTACH;FMTTYPE=image/png:https://espaceludiko.com/wp-content/uploads/2025/09/LUDOTHEQUE-AUT-251.png
ORGANIZER;CN="Espace Ludiko":MAILTO:info@espaceludiko.com
END:VEVENT
BEGIN:VEVENT
DTSTART;TZID=America/Toronto:20251017T153000
DTEND;TZID=America/Toronto:20251017T183000
DTSTAMP:20260423T073025
CREATED:20250911T210016Z
LAST-MODIFIED:20250917T120610Z
UID:780-1760715000-1760725800@espaceludiko.com
SUMMARY:Ouverture de la ludothèque
DESCRIPTION:Pour jouer à la maison avec votre famille et vos amis ou encore pour les activités de votre organisme\, abonnez-vous dès maintenant pour emprunter tous nos jeux et jouets.
URL:https://espaceludiko.com/animation/ouverture-de-la-ludotheque-19/
LOCATION:Chalet Dion\, 1280\, rue Dion\, Val-David\, Québec\, J0T2N0\, Canada
CATEGORIES:0-5 ans,6 ans +,9 ans +,Abonnement annuel,Enfant seulement,Parent-enfant
ATTACH;FMTTYPE=image/png:https://espaceludiko.com/wp-content/uploads/2025/09/LUDOTHEQUE-AUT-251.png
ORGANIZER;CN="Espace Ludiko":MAILTO:info@espaceludiko.com
END:VEVENT
BEGIN:VEVENT
DTSTART;TZID=America/Toronto:20251017T153000
DTEND;TZID=America/Toronto:20251017T183000
DTSTAMP:20260423T073025
CREATED:20250911T195347Z
LAST-MODIFIED:20250911T203542Z
UID:724-1760715000-1760725800@espaceludiko.com
SUMMARY:Après-midi Jeux de société
DESCRIPTION:Nos populaires moment de jeux de sociétés sont de retour ! Venez découvrir de nouveaux jeux ou rejouer à vos préférés en groupe.
URL:https://espaceludiko.com/animation/apres-midi-jeux-de-societe-3/
LOCATION:Chalet Dion\, 1280\, rue Dion\, Val-David\, Québec\, J0T2N0\, Canada
CATEGORIES:6 ans +,9 ans +,Contribution volontaire,Enfant seulement,Entrée libre,Parent-enfant
ATTACH;FMTTYPE=image/png:https://espaceludiko.com/wp-content/uploads/2025/09/APRES-MIDI-JEUX-AUT-25.png
ORGANIZER;CN="Espace Ludiko":MAILTO:info@espaceludiko.com
END:VEVENT
BEGIN:VEVENT
DTSTART;TZID=America/Toronto:20251015T153000
DTEND;TZID=America/Toronto:20251015T183000
DTSTAMP:20260423T073025
CREATED:20250911T205911Z
LAST-MODIFIED:20250917T120620Z
UID:781-1760542200-1760553000@espaceludiko.com
SUMMARY:Ouverture de la ludothèque
DESCRIPTION:Pour jouer à la maison avec votre famille et vos amis ou encore pour les activités de votre organisme\, abonnez-vous dès maintenant pour emprunter tous nos jeux et jouets.
URL:https://espaceludiko.com/animation/ouverture-de-la-ludotheque-18/
LOCATION:Chalet Dion\, 1280\, rue Dion\, Val-David\, Québec\, J0T2N0\, Canada
CATEGORIES:0-5 ans,6 ans +,9 ans +,Abonnement annuel,Enfant seulement,Parent-enfant
ATTACH;FMTTYPE=image/png:https://espaceludiko.com/wp-content/uploads/2025/09/LUDOTHEQUE-AUT-251.png
ORGANIZER;CN="Espace Ludiko":MAILTO:info@espaceludiko.com
END:VEVENT
BEGIN:VEVENT
DTSTART;TZID=America/Toronto:20251014T130000
DTEND;TZID=America/Toronto:20251014T150000
DTSTAMP:20260423T073025
CREATED:20250911T181050Z
LAST-MODIFIED:20250914T154837Z
UID:618-1760446800-1760454000@espaceludiko.com
SUMMARY:Ateliers thématiques PM
DESCRIPTION:Conçus pour soutenir les parents éducateurs\, ces ateliers s’appuient sur les compétences du Programme de formation de l’école québécoise. À travers des activités ludiques et stimulantes\, les enfants exploreront en groupe une thématique tout en développant leurs savoirs\, leur curiosité et leur plaisir d’apprendre ! \nS’inscrire aux ateliers thématiques
URL:https://espaceludiko.com/animation/ateliers-thematiques-pm/
LOCATION:Chalet Dion\, 1280\, rue Dion\, Val-David\, Québec\, J0T2N0\, Canada
CATEGORIES:6 ans +,9 ans +,Parent-enfant,Payant,Sur inscription
ATTACH;FMTTYPE=image/png:https://espaceludiko.com/wp-content/uploads/2025/07/ATELIER-THEMATIQUE-AUT-25.png
ORGANIZER;CN="Espace Ludiko":MAILTO:info@espaceludiko.com
END:VEVENT
BEGIN:VEVENT
DTSTART;TZID=America/Toronto:20251014T100000
DTEND;TZID=America/Toronto:20251014T120000
DTSTAMP:20260423T073025
CREATED:20250911T180935Z
LAST-MODIFIED:20250914T154842Z
UID:615-1760436000-1760443200@espaceludiko.com
SUMMARY:Ateliers thématiques AM
DESCRIPTION:Conçus pour soutenir les parents éducateurs\, ces ateliers s’appuient sur les compétences du Programme de formation de l’école québécoise. À travers des activités ludiques et stimulantes\, les enfants exploreront en groupe une thématique tout en développant leurs savoirs\, leur curiosité et leur plaisir d’apprendre ! \nS’inscrire aux ateliers thématiques
URL:https://espaceludiko.com/animation/ateliers-thematiques-am-4/
LOCATION:Chalet Dion\, 1280\, rue Dion\, Val-David\, Québec\, J0T2N0\, Canada
CATEGORIES:6 ans +,9 ans +,Parent-enfant,Payant,Sur inscription
ATTACH;FMTTYPE=image/png:https://espaceludiko.com/wp-content/uploads/2025/07/ATELIER-THEMATIQUE-AUT-25.png
ORGANIZER;CN="Espace Ludiko":MAILTO:info@espaceludiko.com
END:VEVENT
BEGIN:VEVENT
DTSTART;TZID=America/Toronto:20251012T093000
DTEND;TZID=America/Toronto:20251012T123000
DTSTAMP:20260423T073025
CREATED:20250929T194242Z
LAST-MODIFIED:20250929T194242Z
UID:1194-1760261400-1760272200@espaceludiko.com
SUMMARY:Blitz de bénévolat
DESCRIPTION:Venez nous donner un petit coup de main… et obtenez en retour un rabais possible sur le renouvellement de votre abonnement à la ludothèque !
URL:https://espaceludiko.com/animation/blitz-de-benevolat/
LOCATION:Chalet Dion\, 1280\, rue Dion\, Val-David\, Québec\, J0T2N0\, Canada
CATEGORIES:9 ans +,Enfant seulement,Entrée libre,Parent-enfant
ATTACH;FMTTYPE=image/png:https://espaceludiko.com/wp-content/uploads/2025/09/BENEVOLAT-AUT-25.png
ORGANIZER;CN="Espace Ludiko":MAILTO:info@espaceludiko.com
END:VEVENT
BEGIN:VEVENT
DTSTART;TZID=America/Toronto:20251012T093000
DTEND;TZID=America/Toronto:20251012T123000
DTSTAMP:20260423T073025
CREATED:20250911T205832Z
LAST-MODIFIED:20250917T120630Z
UID:782-1760261400-1760272200@espaceludiko.com
SUMMARY:Ouverture de la ludothèque
DESCRIPTION:Pour jouer à la maison avec votre famille et vos amis ou encore pour les activités de votre organisme\, abonnez-vous dès maintenant pour emprunter tous nos jeux et jouets.
URL:https://espaceludiko.com/animation/ouverture-de-la-ludotheque-17/
LOCATION:Chalet Dion\, 1280\, rue Dion\, Val-David\, Québec\, J0T2N0\, Canada
CATEGORIES:0-5 ans,6 ans +,9 ans +,Abonnement annuel,Enfant seulement,Parent-enfant
ATTACH;FMTTYPE=image/png:https://espaceludiko.com/wp-content/uploads/2025/09/LUDOTHEQUE-AUT-251.png
ORGANIZER;CN="Espace Ludiko":MAILTO:info@espaceludiko.com
END:VEVENT
BEGIN:VEVENT
DTSTART;TZID=America/Toronto:20251010T153000
DTEND;TZID=America/Toronto:20251010T183000
DTSTAMP:20260423T073025
CREATED:20250911T205729Z
LAST-MODIFIED:20250917T120639Z
UID:778-1760110200-1760121000@espaceludiko.com
SUMMARY:Ouverture de la ludothèque
DESCRIPTION:Pour jouer à la maison avec votre famille et vos amis ou encore pour les activités de votre organisme\, abonnez-vous dès maintenant pour emprunter tous nos jeux et jouets.
URL:https://espaceludiko.com/animation/ouverture-de-la-ludotheque-16/
LOCATION:Chalet Dion\, 1280\, rue Dion\, Val-David\, Québec\, J0T2N0\, Canada
CATEGORIES:0-5 ans,6 ans +,9 ans +,Abonnement annuel,Enfant seulement,Parent-enfant
ATTACH;FMTTYPE=image/png:https://espaceludiko.com/wp-content/uploads/2025/09/LUDOTHEQUE-AUT-251.png
ORGANIZER;CN="Espace Ludiko":MAILTO:info@espaceludiko.com
END:VEVENT
BEGIN:VEVENT
DTSTART;TZID=America/Toronto:20251010T153000
DTEND;TZID=America/Toronto:20251010T183000
DTSTAMP:20260423T073025
CREATED:20250911T195244Z
LAST-MODIFIED:20250911T203651Z
UID:722-1760110200-1760121000@espaceludiko.com
SUMMARY:Après-midi Jeux de société
DESCRIPTION:Nos populaires moment de jeux de sociétés sont de retour ! Venez découvrir de nouveaux jeux ou rejouer à vos préférés en groupe.
URL:https://espaceludiko.com/animation/apres-midi-jeux-de-societe-2/
LOCATION:Chalet Dion\, 1280\, rue Dion\, Val-David\, Québec\, J0T2N0\, Canada
CATEGORIES:6 ans +,9 ans +,Contribution volontaire,Enfant seulement,Entrée libre,Parent-enfant
ATTACH;FMTTYPE=image/png:https://espaceludiko.com/wp-content/uploads/2025/09/APRES-MIDI-JEUX-AUT-25.png
ORGANIZER;CN="Espace Ludiko":MAILTO:info@espaceludiko.com
END:VEVENT
BEGIN:VEVENT
DTSTART;TZID=America/Toronto:20251008T153000
DTEND;TZID=America/Toronto:20251008T183000
DTSTAMP:20260423T073025
CREATED:20250911T205645Z
LAST-MODIFIED:20250917T120649Z
UID:776-1759937400-1759948200@espaceludiko.com
SUMMARY:Ouverture de la ludothèque
DESCRIPTION:Pour jouer à la maison avec votre famille et vos amis ou encore pour les activités de votre organisme\, abonnez-vous dès maintenant pour emprunter tous nos jeux et jouets.
URL:https://espaceludiko.com/animation/ouverture-de-la-ludotheque-15/
LOCATION:Chalet Dion\, 1280\, rue Dion\, Val-David\, Québec\, J0T2N0\, Canada
CATEGORIES:0-5 ans,6 ans +,9 ans +,Abonnement annuel,Enfant seulement,Parent-enfant
ATTACH;FMTTYPE=image/png:https://espaceludiko.com/wp-content/uploads/2025/09/LUDOTHEQUE-AUT-251.png
ORGANIZER;CN="Espace Ludiko":MAILTO:info@espaceludiko.com
END:VEVENT
BEGIN:VEVENT
DTSTART;TZID=America/Toronto:20251007T130000
DTEND;TZID=America/Toronto:20251007T150000
DTSTAMP:20260423T073025
CREATED:20250911T180624Z
LAST-MODIFIED:20250914T154847Z
UID:609-1759842000-1759849200@espaceludiko.com
SUMMARY:Ateliers thématiques PM
DESCRIPTION:Conçus pour soutenir les parents éducateurs\, ces ateliers s’appuient sur les compétences du Programme de formation de l’école québécoise. À travers des activités ludiques et stimulantes\, les enfants exploreront en groupe une thématique tout en développant leurs savoirs\, leur curiosité et leur plaisir d’apprendre ! \nS’inscrire aux ateliers thématiques
URL:https://espaceludiko.com/animation/ateliers-thematiques-2/
LOCATION:Chalet Dion\, 1280\, rue Dion\, Val-David\, Québec\, J0T2N0\, Canada
CATEGORIES:6 ans +,9 ans +,Parent-enfant,Payant,Sur inscription
ATTACH;FMTTYPE=image/png:https://espaceludiko.com/wp-content/uploads/2025/07/ATELIER-THEMATIQUE-AUT-25.png
ORGANIZER;CN="Espace Ludiko":MAILTO:info@espaceludiko.com
END:VEVENT
BEGIN:VEVENT
DTSTART;TZID=America/Toronto:20251007T100000
DTEND;TZID=America/Toronto:20251007T120000
DTSTAMP:20260423T073025
CREATED:20250709T190946Z
LAST-MODIFIED:20250914T154853Z
UID:411-1759831200-1759838400@espaceludiko.com
SUMMARY:Ateliers thématiques AM
DESCRIPTION:Conçus pour soutenir les parents éducateurs\, ces ateliers s’appuient sur les compétences du Programme de formation de l’école québécoise. À travers des activités ludiques et stimulantes\, les enfants exploreront en groupe une thématique tout en développant leurs savoirs\, leur curiosité et leur plaisir d’apprendre ! \nS’inscrire aux ateliers thématiques
URL:https://espaceludiko.com/animation/ateliers-thematiques/
LOCATION:Chalet Dion\, 1280\, rue Dion\, Val-David\, Québec\, J0T2N0\, Canada
CATEGORIES:6 ans +,9 ans +,Parent-enfant,Payant,Sur inscription
ATTACH;FMTTYPE=image/png:https://espaceludiko.com/wp-content/uploads/2025/07/ATELIER-THEMATIQUE-AUT-25.png
ORGANIZER;CN="Espace Ludiko":MAILTO:info@espaceludiko.com
END:VEVENT
BEGIN:VEVENT
DTSTART;TZID=America/Toronto:20251005T093000
DTEND;TZID=America/Toronto:20251005T123000
DTSTAMP:20260423T073025
CREATED:20250911T205557Z
LAST-MODIFIED:20250917T120657Z
UID:774-1759656600-1759667400@espaceludiko.com
SUMMARY:Ouverture de la ludothèque
DESCRIPTION:Pour jouer à la maison avec votre famille et vos amis ou encore pour les activités de votre organisme\, abonnez-vous dès maintenant pour emprunter tous nos jeux et jouets.
URL:https://espaceludiko.com/animation/ouverture-de-la-ludotheque-14/
LOCATION:Chalet Dion\, 1280\, rue Dion\, Val-David\, Québec\, J0T2N0\, Canada
CATEGORIES:0-5 ans,6 ans +,9 ans +,Abonnement annuel,Enfant seulement,Parent-enfant
ATTACH;FMTTYPE=image/png:https://espaceludiko.com/wp-content/uploads/2025/09/LUDOTHEQUE-AUT-251.png
ORGANIZER;CN="Espace Ludiko":MAILTO:info@espaceludiko.com
END:VEVENT
BEGIN:VEVENT
DTSTART;TZID=America/Toronto:20251003T153000
DTEND;TZID=America/Toronto:20251003T183000
DTSTAMP:20260423T073025
CREATED:20250911T205333Z
LAST-MODIFIED:20250917T120706Z
UID:772-1759505400-1759516200@espaceludiko.com
SUMMARY:Ouverture de la ludothèque
DESCRIPTION:Pour jouer à la maison avec votre famille et vos amis ou encore pour les activités de votre organisme\, abonnez-vous dès maintenant pour emprunter tous nos jeux et jouets.
URL:https://espaceludiko.com/animation/ouverture-de-la-ludotheque-13/
LOCATION:Chalet Dion\, 1280\, rue Dion\, Val-David\, Québec\, J0T2N0\, Canada
CATEGORIES:0-5 ans,6 ans +,9 ans +,Abonnement annuel,Enfant seulement,Parent-enfant
ATTACH;FMTTYPE=image/png:https://espaceludiko.com/wp-content/uploads/2025/09/LUDOTHEQUE-AUT-251.png
ORGANIZER;CN="Espace Ludiko":MAILTO:info@espaceludiko.com
END:VEVENT
BEGIN:VEVENT
DTSTART;TZID=America/Toronto:20251003T153000
DTEND;TZID=America/Toronto:20251003T183000
DTSTAMP:20260423T073025
CREATED:20250911T191241Z
LAST-MODIFIED:20250911T203732Z
UID:702-1759505400-1759516200@espaceludiko.com
SUMMARY:Après-midi Jeux de société
DESCRIPTION:Nos populaires moment de jeux de sociétés sont de retour ! Venez découvrir de nouveaux jeux ou rejouer à vos préférés en groupe.
URL:https://espaceludiko.com/animation/apres-midi-jeux-de-societe/
LOCATION:Chalet Dion\, 1280\, rue Dion\, Val-David\, Québec\, J0T2N0\, Canada
CATEGORIES:6 ans +,9 ans +,Contribution volontaire,Enfant seulement,Entrée libre,Parent-enfant
ATTACH;FMTTYPE=image/png:https://espaceludiko.com/wp-content/uploads/2025/09/APRES-MIDI-JEUX-AUT-25.png
ORGANIZER;CN="Espace Ludiko":MAILTO:info@espaceludiko.com
END:VEVENT
BEGIN:VEVENT
DTSTART;TZID=America/Toronto:20251001T153000
DTEND;TZID=America/Toronto:20251001T183000
DTSTAMP:20260423T073025
CREATED:20250911T205239Z
LAST-MODIFIED:20250917T120716Z
UID:770-1759332600-1759343400@espaceludiko.com
SUMMARY:Ouverture de la ludothèque
DESCRIPTION:Pour jouer à la maison avec votre famille et vos amis ou encore pour les activités de votre organisme\, abonnez-vous dès maintenant pour emprunter tous nos jeux et jouets.
URL:https://espaceludiko.com/animation/ouverture-de-la-ludotheque-12/
LOCATION:Chalet Dion\, 1280\, rue Dion\, Val-David\, Québec\, J0T2N0\, Canada
CATEGORIES:0-5 ans,6 ans +,9 ans +,Abonnement annuel,Enfant seulement,Parent-enfant
ATTACH;FMTTYPE=image/png:https://espaceludiko.com/wp-content/uploads/2025/09/LUDOTHEQUE-AUT-251.png
ORGANIZER;CN="Espace Ludiko":MAILTO:info@espaceludiko.com
END:VEVENT
BEGIN:VEVENT
DTSTART;TZID=America/Toronto:20250928T093000
DTEND;TZID=America/Toronto:20250928T123000
DTSTAMP:20260423T073025
CREATED:20250911T204838Z
LAST-MODIFIED:20250917T120811Z
UID:765-1759051800-1759062600@espaceludiko.com
SUMMARY:Ouverture de la ludothèque
DESCRIPTION:Pour jouer à la maison avec votre famille et vos amis ou encore pour les activités de votre organisme\, abonnez-vous dès maintenant pour emprunter tous nos jeux et jouets.
URL:https://espaceludiko.com/animation/ouverture-de-la-ludotheque-11/
LOCATION:Chalet Dion\, 1280\, rue Dion\, Val-David\, Québec\, J0T2N0\, Canada
CATEGORIES:0-5 ans,6 ans +,9 ans +,Abonnement annuel,Enfant seulement,Parent-enfant
ATTACH;FMTTYPE=image/png:https://espaceludiko.com/wp-content/uploads/2025/09/LUDOTHEQUE-AUT-251.png
ORGANIZER;CN="Espace Ludiko":MAILTO:info@espaceludiko.com
END:VEVENT
BEGIN:VEVENT
DTSTART;TZID=America/Toronto:20250926T153000
DTEND;TZID=America/Toronto:20250926T183000
DTSTAMP:20260423T073025
CREATED:20250911T204745Z
LAST-MODIFIED:20250917T120819Z
UID:763-1758900600-1758911400@espaceludiko.com
SUMMARY:Ouverture de la ludothèque
DESCRIPTION:Pour jouer à la maison avec votre famille et vos amis ou encore pour les activités de votre organisme\, abonnez-vous dès maintenant pour emprunter tous nos jeux et jouets.
URL:https://espaceludiko.com/animation/ouverture-de-la-ludotheque-10/
LOCATION:Chalet Dion\, 1280\, rue Dion\, Val-David\, Québec\, J0T2N0\, Canada
CATEGORIES:0-5 ans,6 ans +,9 ans +,Abonnement annuel,Enfant seulement,Parent-enfant
ATTACH;FMTTYPE=image/png:https://espaceludiko.com/wp-content/uploads/2025/09/LUDOTHEQUE-AUT-251.png
ORGANIZER;CN="Espace Ludiko":MAILTO:info@espaceludiko.com
END:VEVENT
BEGIN:VEVENT
DTSTART;TZID=America/Toronto:20250924T153000
DTEND;TZID=America/Toronto:20250924T183000
DTSTAMP:20260423T073025
CREATED:20250911T204542Z
LAST-MODIFIED:20250917T120828Z
UID:761-1758727800-1758738600@espaceludiko.com
SUMMARY:Ouverture de la ludothèque
DESCRIPTION:Pour jouer à la maison avec votre famille et vos amis ou encore pour les activités de votre organisme\, abonnez-vous dès maintenant pour emprunter tous nos jeux et jouets.
URL:https://espaceludiko.com/animation/ouverture-de-la-ludotheque-9/
LOCATION:Chalet Dion\, 1280\, rue Dion\, Val-David\, Québec\, J0T2N0\, Canada
CATEGORIES:0-5 ans,6 ans +,9 ans +,Abonnement annuel,Enfant seulement,Parent-enfant
ATTACH;FMTTYPE=image/png:https://espaceludiko.com/wp-content/uploads/2025/09/LUDOTHEQUE-AUT-251.png
ORGANIZER;CN="Espace Ludiko":MAILTO:info@espaceludiko.com
END:VEVENT
BEGIN:VEVENT
DTSTART;TZID=America/Toronto:20250921T093000
DTEND;TZID=America/Toronto:20250921T123000
DTSTAMP:20260423T073025
CREATED:20250911T204414Z
LAST-MODIFIED:20250917T120837Z
UID:759-1758447000-1758457800@espaceludiko.com
SUMMARY:Ouverture de la ludothèque
DESCRIPTION:Pour jouer à la maison avec votre famille et vos amis ou encore pour les activités de votre organisme\, abonnez-vous dès maintenant pour emprunter tous nos jeux et jouets.
URL:https://espaceludiko.com/animation/ouverture-de-la-ludotheque-8/
LOCATION:Espace Ludiko\, 1280\, rue Dion\, Val-David\, Québec\, J0T2N0\, Canada
CATEGORIES:0-5 ans,6 ans +,9 ans +,Abonnement annuel,Enfant seulement,Parent-enfant
ATTACH;FMTTYPE=image/png:https://espaceludiko.com/wp-content/uploads/2025/09/LUDOTHEQUE-AUT-251.png
ORGANIZER;CN="Espace Ludiko":MAILTO:info@espaceludiko.com
END:VEVENT
BEGIN:VEVENT
DTSTART;TZID=America/Toronto:20250920T103000
DTEND;TZID=America/Toronto:20250920T143000
DTSTAMP:20260423T073025
CREATED:20250911T205113Z
LAST-MODIFIED:20250915T120911Z
UID:767-1758364200-1758378600@espaceludiko.com
SUMMARY:Pique-nique familial
DESCRIPTION:Venez célébrer l’automne en famille lors de notre pique-nique familial au Chalet Dion ! \nAu programme : des surprises\, des activités ludiques pour petits et grands\, et le lancement de la programmation d’automne d’Espace Ludiko. \n✨ Un rendez-vous communautaire pour se rassembler\, partager et s’amuser ensemble ! ✨
URL:https://espaceludiko.com/animation/pique-nique-familial/
LOCATION:Chalet Dion\, 1280\, rue Dion\, Val-David\, Québec\, J0T2N0\, Canada
CATEGORIES:0-5 ans,6 ans +,9 ans +,Enfant seulement,Entrée libre,Parent-enfant
ATTACH;FMTTYPE=image/jpeg:https://espaceludiko.com/wp-content/uploads/2025/09/JOURNEE-FAMILLE-AUT-25-v2.jpg
ORGANIZER;CN="Espace Ludiko":MAILTO:info@espaceludiko.com
END:VEVENT
BEGIN:VEVENT
DTSTART;TZID=America/Toronto:20250919T153000
DTEND;TZID=America/Toronto:20250919T183000
DTSTAMP:20260423T073025
CREATED:20250911T204311Z
LAST-MODIFIED:20250917T120845Z
UID:757-1758295800-1758306600@espaceludiko.com
SUMMARY:Ouverture de la ludothèque
DESCRIPTION:Pour jouer à la maison avec votre famille et vos amis ou encore pour les activités de votre organisme\, abonnez-vous dès maintenant pour emprunter tous nos jeux et jouets.
URL:https://espaceludiko.com/animation/ouverture-de-la-ludotheque-7/
LOCATION:Chalet Dion\, 1280\, rue Dion\, Val-David\, Québec\, J0T2N0\, Canada
CATEGORIES:0-5 ans,6 ans +,9 ans +,Abonnement annuel,Enfant seulement,Parent-enfant
ATTACH;FMTTYPE=image/png:https://espaceludiko.com/wp-content/uploads/2025/09/LUDOTHEQUE-AUT-251.png
ORGANIZER;CN="Espace Ludiko":MAILTO:info@espaceludiko.com
END:VEVENT
BEGIN:VEVENT
DTSTART;TZID=America/Toronto:20250917T153000
DTEND;TZID=America/Toronto:20250917T183000
DTSTAMP:20260423T073025
CREATED:20250911T203955Z
LAST-MODIFIED:20250917T120853Z
UID:755-1758123000-1758133800@espaceludiko.com
SUMMARY:Ouverture de la ludothèque
DESCRIPTION:Pour jouer à la maison avec votre famille et vos amis ou encore pour les activités de votre organisme\, abonnez-vous dès maintenant pour emprunter tous nos jeux et jouets.
URL:https://espaceludiko.com/animation/ouverture-de-la-ludotheque-6/
LOCATION:Chalet Dion\, 1280\, rue Dion\, Val-David\, Québec\, J0T2N0\, Canada
CATEGORIES:0-5 ans,6 ans +,9 ans +,Abonnement annuel,Enfant seulement,Parent-enfant
ATTACH;FMTTYPE=image/png:https://espaceludiko.com/wp-content/uploads/2025/09/LUDOTHEQUE-AUT-251.png
ORGANIZER;CN="Espace Ludiko":MAILTO:info@espaceludiko.com
END:VEVENT
BEGIN:VEVENT
DTSTART;TZID=America/Toronto:20250914T093000
DTEND;TZID=America/Toronto:20250914T123000
DTSTAMP:20260423T073025
CREATED:20250911T203853Z
LAST-MODIFIED:20250917T120901Z
UID:752-1757842200-1757853000@espaceludiko.com
SUMMARY:Ouverture de la ludothèque
DESCRIPTION:Pour jouer à la maison avec votre famille et vos amis ou encore pour les activités de votre organisme\, abonnez-vous dès maintenant pour emprunter tous nos jeux et jouets.
URL:https://espaceludiko.com/animation/ouverture-de-la-ludotheque-2-2/
LOCATION:Chalet Dion\, 1280\, rue Dion\, Val-David\, Québec\, J0T2N0\, Canada
CATEGORIES:0-5 ans,6 ans +,9 ans +,Abonnement annuel,Enfant seulement,Parent-enfant
ATTACH;FMTTYPE=image/png:https://espaceludiko.com/wp-content/uploads/2025/09/LUDOTHEQUE-AUT-251.png
ORGANIZER;CN="Espace Ludiko":MAILTO:info@espaceludiko.com
END:VEVENT
BEGIN:VEVENT
DTSTART;TZID=America/Toronto:20250912T153000
DTEND;TZID=America/Toronto:20250912T183000
DTSTAMP:20260423T073025
CREATED:20250911T203032Z
LAST-MODIFIED:20250917T120908Z
UID:750-1757691000-1757701800@espaceludiko.com
SUMMARY:Ouverture de la ludothèque
DESCRIPTION:Pour jouer à la maison avec votre famille et vos amis ou encore pour les activités de votre organisme\, abonnez-vous dès maintenant pour emprunter tous nos jeux et jouets.
URL:https://espaceludiko.com/animation/ouverture-de-la-ludotheque-5/
LOCATION:Chalet Dion\, 1280\, rue Dion\, Val-David\, Québec\, J0T2N0\, Canada
CATEGORIES:0-5 ans,6 ans +,9 ans +,Abonnement annuel,Enfant seulement,Parent-enfant
ATTACH;FMTTYPE=image/png:https://espaceludiko.com/wp-content/uploads/2025/09/LUDOTHEQUE-AUT-251.png
ORGANIZER;CN="Espace Ludiko":MAILTO:info@espaceludiko.com
END:VEVENT
BEGIN:VEVENT
DTSTART;TZID=America/Toronto:20250910T153000
DTEND;TZID=America/Toronto:20250910T183000
DTSTAMP:20260423T073025
CREATED:20250911T202714Z
LAST-MODIFIED:20250917T120916Z
UID:748-1757518200-1757529000@espaceludiko.com
SUMMARY:Ouverture de la ludothèque
DESCRIPTION:Pour jouer à la maison avec votre famille et vos amis ou encore pour les activités de votre organisme\, abonnez-vous dès maintenant pour emprunter tous nos jeux et jouets.
URL:https://espaceludiko.com/animation/ouverture-de-la-ludotheque-4/
LOCATION:Chalet Dion\, 1280\, rue Dion\, Val-David\, Québec\, J0T2N0\, Canada
CATEGORIES:0-5 ans,6 ans +,9 ans +,Abonnement annuel,Enfant seulement,Parent-enfant
ATTACH;FMTTYPE=image/png:https://espaceludiko.com/wp-content/uploads/2025/09/LUDOTHEQUE-AUT-251.png
ORGANIZER;CN="Espace Ludiko":MAILTO:info@espaceludiko.com
END:VEVENT
END:VCALENDAR